BEGIN:VCALENDAR
PRODID:-//eluceo/ical//2.0/EN
VERSION:2.0
CALSCALE:GREGORIAN
BEGIN:VEVENT
UID:4ffe585dd0e06dab9884230f67e04b9f
DTSTAMP:20260422T142318Z
SUMMARY:robe-longue-chemisier-dite-maxi-robe-col - Date de vente : 28/10/20
 13
DESCRIPTION:Nom du lots : Robe longue chemisier dite maxi-robe\, col...\n\n
 Robe longue chemisier dite maxi-robe\, col en mousseline champagne\, enti
 èrement brodée de pailletttes\, griffée CHANEL\, fin des Années 1960
DTSTART;VALUE=DATE:20131028
END:VEVENT
END:VCALENDAR
