BEGIN:VCALENDAR
PRODID:-//eluceo/ical//2.0/EN
VERSION:2.0
CALSCALE:GREGORIAN
BEGIN:VEVENT
UID:074ed00ee36990013add82e4af4b4f37
DTSTAMP:20260422T142549Z
SUMMARY:robe-du-soir-en-crpe-noir-travail-de-nervures - Date de vente : 28/
 10/2013
DESCRIPTION:Nom du lots : Robe du soir en crêpe noir\, travail de nervures
 \,...\n\nRobe du soir en crêpe noir\, travail de nervures\, griffée MAGG
 Y ROUFF vers 1930
DTSTART;VALUE=DATE:20131028
END:VEVENT
END:VCALENDAR
