BEGIN:VCALENDAR
PRODID:-//eluceo/ical//2.0/EN
VERSION:2.0
CALSCALE:GREGORIAN
BEGIN:VEVENT
UID:22fc420c595fb7c5bdea08e02e8cfe28
DTSTAMP:20260422T142319Z
SUMMARY:carre-hermes-eperon-dor-entourage-marron - Date de vente : 28/10/20
 13
DESCRIPTION:Nom du lots : CARRE HERMES: "Eperon d’or"\, entourage marron\
 ,...\n\nCARRE HERMES: "Eperon d’or"\, entourage marron\, signé H. d’O
 rigny (Taches)
DTSTART;VALUE=DATE:20131028
END:VEVENT
END:VCALENDAR
