BEGIN:VCALENDAR
PRODID:-//eluceo/ical//2.0/EN
VERSION:2.0
CALSCALE:GREGORIAN
BEGIN:VEVENT
UID:58f735b57b6c66d1f06fe6a73f43f100
DTSTAMP:20260422T142452Z
SUMMARY:carre-hermes-fond-blanc-dcor-de-calches - Date de vente : 28/10/201
 3
DESCRIPTION:Nom du lots : CARRE HERMES: Fond blanc à décor de calèches\,
 ...\n\nCARRE HERMES: Fond blanc à décor de calèches\, entourage bleu et
  vert\; (Taches et décolorations)
DTSTART;VALUE=DATE:20131028
END:VEVENT
END:VCALENDAR
