BEGIN:VCALENDAR
PRODID:-//eluceo/ical//2.0/EN
VERSION:2.0
CALSCALE:GREGORIAN
BEGIN:VEVENT
UID:1450a12ed29d61d36a75b29653e51f52
DTSTAMP:20260423T013356Z
SUMMARY:pr-sterling-silver-diamond-and-agate-earrings - Date de vente : 22/
 11/2013
DESCRIPTION:Nom du lots : Pr. sterling silver\, diamond and agate earrings\
 ,\n\nPr. sterling silver\, diamond and agate earrings\, the diamond frame 
 weighing 1.72 cts. Stamped\, "SR 750." 21.5 grams. 2’’L\, Circa - Cont
 emporary.
DTSTART;VALUE=DATE:20131122
END:VEVENT
END:VCALENDAR
