BEGIN:VCALENDAR
PRODID:-//eluceo/ical//2.0/EN
VERSION:2.0
CALSCALE:GREGORIAN
BEGIN:VEVENT
UID:b98eb73f243f6b31a368c8f517a438a0
DTSTAMP:20260423T013422Z
SUMMARY:rare-mongolian-lynx-fur-stroller-length-coat - Date de vente : 22/1
 1/2013
DESCRIPTION:Nom du lots : Rare Mongolian lynx fur stroller length coat\,\n\
 nRare Mongolian lynx fur stroller length coat\, the fine long haired lynx 
 fur colored in a very pale hue with natural striations and spots and style
 d with shawl collar\, measuring 39" long from the
DTSTART;VALUE=DATE:20131122
END:VEVENT
END:VCALENDAR
