BEGIN:VCALENDAR
PRODID:-//eluceo/ical//2.0/EN
VERSION:2.0
CALSCALE:GREGORIAN
BEGIN:VEVENT
UID:987043216e1605514bd3353aed35a38f
DTSTAMP:20260423T013422Z
SUMMARY:bob-mackie-black-and-white-sequined-evening-gown - Date de vente : 
 22/11/2013
DESCRIPTION:Nom du lots : Bob Mackie black and white sequined evening gown\
 ,\n\nBob Mackie black and white sequined evening gown\, a couture design b
 y Mackie for the client through Neiman Marcus\; Mackie was so pleased with
  his creation that he included the dress in a subsequent
DTSTART;VALUE=DATE:20131122
END:VEVENT
END:VCALENDAR
