BEGIN:VCALENDAR
PRODID:-//eluceo/ical//2.0/EN
VERSION:2.0
CALSCALE:GREGORIAN
BEGIN:VEVENT
UID:1393406a921ba3183edacda0babbd655
DTSTAMP:20260423T013417Z
SUMMARY:sterling-silver-diamond-and-labradorite-hoop - Date de vente : 22/1
 1/2013
DESCRIPTION:Nom du lots : Sterling silver\, diamond and labradorite hoop\n\
 nSterling silver\, diamond and labradorite hoop earrings\, the diamond fra
 me weighing .46 cts. approximate total. Stamped\, "925." 9.8 grams. 2’
 ’L\, Circa - Contemporary.
DTSTART;VALUE=DATE:20131122
END:VEVENT
END:VCALENDAR
