BEGIN:VCALENDAR
PRODID:-//eluceo/ical//2.0/EN
VERSION:2.0
CALSCALE:GREGORIAN
BEGIN:VEVENT
UID:445bcff4c9274d059e258cff01907523
DTSTAMP:20260423T013448Z
SUMMARY:diamond-and-mother-of-pearl-hoop-earrings - Date de vente : 22/11/2
 013
DESCRIPTION:Nom du lots : Diamond and mother-of-pearl hoop earrings\,\n\nDi
 amond and mother-of-pearl hoop earrings\, the diamond frame weighing .67 c
 ts. approximate total. This new metal\, 1874\, is a combination of gold\, 
 silver\, copper and brass. Stamped\, "925." 13.1 grams.
DTSTART;VALUE=DATE:20131122
END:VEVENT
END:VCALENDAR
