BEGIN:VCALENDAR
PRODID:-//eluceo/ical//2.0/EN
VERSION:2.0
CALSCALE:GREGORIAN
BEGIN:VEVENT
UID:4ce37e99a56eaface54a36733252d627
DTSTAMP:20260423T013449Z
SUMMARY:18k-gold-diamond-and-rose-quartz-earrings - Date de vente : 22/11/2
 013
DESCRIPTION:Nom du lots : 18K gold\, diamond and rose quartz earrings\n\n18
 K gold\, diamond and rose quartz earrings featuring a pair of faceted tear
 drop shaped quartz\, accented by 84 round brilliant cut colorless and brow
 n diamonds\, .54 cts. approximate total\, in a rose
DTSTART;VALUE=DATE:20131122
END:VEVENT
END:VCALENDAR
