BEGIN:VCALENDAR
PRODID:-//eluceo/ical//2.0/EN
VERSION:2.0
CALSCALE:GREGORIAN
BEGIN:VEVENT
UID:044a216b9998278332a1b4d2342a82c4
DTSTAMP:20260423T013357Z
SUMMARY:long-haired-lynx-stroller-length-coat - Date de vente : 22/11/2013
DESCRIPTION:Nom du lots : Long-haired lynx stroller length coat\n\nLong-hai
 red lynx stroller length coat the stunning coat of luxuriant long-haired s
 kins with great variety of colors\, measuring 36.25" long\, the sleeves 27
 " long each. Provenance: The estate of a
DTSTART;VALUE=DATE:20131122
END:VEVENT
END:VCALENDAR
